BEGIN:VCALENDAR
VERSION:2.0
PRODID:-//Desmond Doss - ECPv6.15.20//NONSGML v1.0//EN
CALSCALE:GREGORIAN
METHOD:PUBLISH
X-ORIGINAL-URL:https://desmonddossfoundation.org
X-WR-CALDESC:Events for Desmond Doss
REFRESH-INTERVAL;VALUE=DURATION:PT1H
X-Robots-Tag:noindex
X-PUBLISHED-TTL:PT1H
BEGIN:VTIMEZONE
TZID:America/Los_Angeles
BEGIN:DAYLIGHT
TZOFFSETFROM:-0800
TZOFFSETTO:-0700
TZNAME:PDT
DTSTART:20230312T100000
END:DAYLIGHT
BEGIN:STANDARD
TZOFFSETFROM:-0700
TZOFFSETTO:-0800
TZNAME:PST
DTSTART:20231105T090000
END:STANDARD
BEGIN:DAYLIGHT
TZOFFSETFROM:-0800
TZOFFSETTO:-0700
TZNAME:PDT
DTSTART:20240310T100000
END:DAYLIGHT
BEGIN:STANDARD
TZOFFSETFROM:-0700
TZOFFSETTO:-0800
TZNAME:PST
DTSTART:20241103T090000
END:STANDARD
BEGIN:DAYLIGHT
TZOFFSETFROM:-0800
TZOFFSETTO:-0700
TZNAME:PDT
DTSTART:20250309T100000
END:DAYLIGHT
BEGIN:STANDARD
TZOFFSETFROM:-0700
TZOFFSETTO:-0800
TZNAME:PST
DTSTART:20251102T090000
END:STANDARD
END:VTIMEZONE
BEGIN:VEVENT
DTSTART;TZID=America/Los_Angeles:20240606T080000
DTEND;TZID=America/Los_Angeles:20240606T090000
DTSTAMP:20260424T124618
CREATED:20240604T002258Z
LAST-MODIFIED:20240613T163851Z
UID:2067-1717660800-1717664400@desmonddossfoundation.org
SUMMARY:Assembly Chapel Program
DESCRIPTION:We are coming to the Newbury Park Adventist Academy for the Assembly Chapel Program this Thursday\, June 6 at 8 AM \nPresenting the Desmond Doss Foundation Character Development Program \n\nIntroductory to DDF | Joel Albritton\, Principal\nPoints Of Decision Experience | EDUSODE 1 “Courage”| Jeffrey Cordone AP\, DDF\nDesmond Doss Scholarship Program Introduction | Presentation\n\nCommemorating the Legacy of Medal of Honor Recipient Desmond Doss and Carrying Forward His Values of: Courage\, Conviction\, Integrity\, Humility\, Selflessness\, Faith and Patrotism.
URL:https://desmonddossfoundation.org/event/assembly-chapel-program/
LOCATION:Newbury Park Adventist Academy\, 180 Academy Dr.\, Newbury Park\, CA\, CA\, 91320\, United States
CATEGORIES:Edusode,Events,School
ATTACH;FMTTYPE=image/png:https://desmonddossfoundation.org/wp-content/uploads/2024/06/Assembly-Chapel-Program-June-6-at-8-AM-Newbury-Park-Adventist-Academy.png
END:VEVENT
END:VCALENDAR